BEGIN:VCALENDAR
VERSION:2.0
PRODID:-//Southpoint Church - ECPv6.15.20//NONSGML v1.0//EN
CALSCALE:GREGORIAN
METHOD:PUBLISH
X-ORIGINAL-URL:https://www.southpoint.ca
X-WR-CALDESC:Events for Southpoint Church
REFRESH-INTERVAL;VALUE=DURATION:PT1H
X-Robots-Tag:noindex
X-PUBLISHED-TTL:PT1H
BEGIN:VTIMEZONE
TZID:America/Halifax
BEGIN:DAYLIGHT
TZOFFSETFROM:-0400
TZOFFSETTO:-0300
TZNAME:ADT
DTSTART:20240310T060000
END:DAYLIGHT
BEGIN:STANDARD
TZOFFSETFROM:-0300
TZOFFSETTO:-0400
TZNAME:AST
DTSTART:20241103T050000
END:STANDARD
BEGIN:DAYLIGHT
TZOFFSETFROM:-0400
TZOFFSETTO:-0300
TZNAME:ADT
DTSTART:20250309T060000
END:DAYLIGHT
BEGIN:STANDARD
TZOFFSETFROM:-0300
TZOFFSETTO:-0400
TZNAME:AST
DTSTART:20251102T050000
END:STANDARD
BEGIN:DAYLIGHT
TZOFFSETFROM:-0400
TZOFFSETTO:-0300
TZNAME:ADT
DTSTART:20260308T060000
END:DAYLIGHT
BEGIN:STANDARD
TZOFFSETFROM:-0300
TZOFFSETTO:-0400
TZNAME:AST
DTSTART:20261101T050000
END:STANDARD
END:VTIMEZONE
BEGIN:VEVENT
DTSTART;TZID=America/Halifax:20251207T100000
DTEND;TZID=America/Halifax:20251207T120000
DTSTAMP:20260421T131155
CREATED:20251128T234146Z
LAST-MODIFIED:20251128T234146Z
UID:1410-1765101600-1765108800@www.southpoint.ca
SUMMARY:Advent\, Week 2
DESCRIPTION:“When we’re running out of hope\, God is at work”  \nMatthew 11:1-11\, Is 43:19-21 \n  \n 
URL:https://www.southpoint.ca/event/advent-week-2/
LOCATION:Southpoint Church\, 15639 24 Ave.\, Surrey\, British Columbia\, V4A 2J6\, Canada
ATTACH;FMTTYPE=image/png:https://www.southpoint.ca/wp-content/uploads/2025/11/Advent_LAMP.png
END:VEVENT
END:VCALENDAR