BEGIN:VCALENDAR
VERSION:2.0
PRODID:-//Southpoint Church - ECPv6.15.20//NONSGML v1.0//EN
CALSCALE:GREGORIAN
METHOD:PUBLISH
X-ORIGINAL-URL:https://www.southpoint.ca
X-WR-CALDESC:Events for Southpoint Church
REFRESH-INTERVAL;VALUE=DURATION:PT1H
X-Robots-Tag:noindex
X-PUBLISHED-TTL:PT1H
BEGIN:VTIMEZONE
TZID:America/Halifax
BEGIN:DAYLIGHT
TZOFFSETFROM:-0400
TZOFFSETTO:-0300
TZNAME:ADT
DTSTART:20250309T060000
END:DAYLIGHT
BEGIN:STANDARD
TZOFFSETFROM:-0300
TZOFFSETTO:-0400
TZNAME:AST
DTSTART:20251102T050000
END:STANDARD
BEGIN:DAYLIGHT
TZOFFSETFROM:-0400
TZOFFSETTO:-0300
TZNAME:ADT
DTSTART:20260308T060000
END:DAYLIGHT
BEGIN:STANDARD
TZOFFSETFROM:-0300
TZOFFSETTO:-0400
TZNAME:AST
DTSTART:20261101T050000
END:STANDARD
BEGIN:DAYLIGHT
TZOFFSETFROM:-0400
TZOFFSETTO:-0300
TZNAME:ADT
DTSTART:20270314T060000
END:DAYLIGHT
BEGIN:STANDARD
TZOFFSETFROM:-0300
TZOFFSETTO:-0400
TZNAME:AST
DTSTART:20271107T050000
END:STANDARD
END:VTIMEZONE
BEGIN:VEVENT
DTSTART;TZID=America/Halifax:20260125T100000
DTEND;TZID=America/Halifax:20260125T120000
DTSTAMP:20260420T185434
CREATED:20260113T220021Z
LAST-MODIFIED:20260113T220021Z
UID:1573-1769335200-1769342400@www.southpoint.ca
SUMMARY:ALL OUT
DESCRIPTION:Small Gatherings in homes. Sign up through the Southpoint News!
URL:https://www.southpoint.ca/event/all-out/
LOCATION:Each Other Homes\, Canada
ATTACH;FMTTYPE=image/png:https://www.southpoint.ca/wp-content/uploads/2025/08/5th-Sunday-Brunches.png
END:VEVENT
END:VCALENDAR