BEGIN:VCALENDAR
VERSION:2.0
PRODID:-//Southpoint Church - ECPv6.15.20//NONSGML v1.0//EN
CALSCALE:GREGORIAN
METHOD:PUBLISH
X-WR-CALNAME:Southpoint Church
X-ORIGINAL-URL:https://www.southpoint.ca
X-WR-CALDESC:Events for Southpoint Church
REFRESH-INTERVAL;VALUE=DURATION:PT1H
X-Robots-Tag:noindex
X-PUBLISHED-TTL:PT1H
BEGIN:VTIMEZONE
TZID:America/Halifax
BEGIN:DAYLIGHT
TZOFFSETFROM:-0400
TZOFFSETTO:-0300
TZNAME:ADT
DTSTART:20240310T060000
END:DAYLIGHT
BEGIN:STANDARD
TZOFFSETFROM:-0300
TZOFFSETTO:-0400
TZNAME:AST
DTSTART:20241103T050000
END:STANDARD
BEGIN:DAYLIGHT
TZOFFSETFROM:-0400
TZOFFSETTO:-0300
TZNAME:ADT
DTSTART:20250309T060000
END:DAYLIGHT
BEGIN:STANDARD
TZOFFSETFROM:-0300
TZOFFSETTO:-0400
TZNAME:AST
DTSTART:20251102T050000
END:STANDARD
BEGIN:DAYLIGHT
TZOFFSETFROM:-0400
TZOFFSETTO:-0300
TZNAME:ADT
DTSTART:20260308T060000
END:DAYLIGHT
BEGIN:STANDARD
TZOFFSETFROM:-0300
TZOFFSETTO:-0400
TZNAME:AST
DTSTART:20261101T050000
END:STANDARD
BEGIN:DAYLIGHT
TZOFFSETFROM:-0400
TZOFFSETTO:-0300
TZNAME:ADT
DTSTART:20270314T060000
END:DAYLIGHT
BEGIN:STANDARD
TZOFFSETFROM:-0300
TZOFFSETTO:-0400
TZNAME:AST
DTSTART:20271107T050000
END:STANDARD
END:VTIMEZONE
BEGIN:VEVENT
DTSTART;TZID=America/Halifax:20260111T100000
DTEND;TZID=America/Halifax:20260111T120000
DTSTAMP:20260420T230629
CREATED:20260106T231202Z
LAST-MODIFIED:20260106T231202Z
UID:1570-1768125600-1768132800@www.southpoint.ca
SUMMARY:“Stop\, Look\, Listen” Jan 11th
DESCRIPTION:Matthew 3:13-17  \n  “Stop\, Look\, Listen” (new title
URL:https://www.southpoint.ca/event/stop-look-listen-jan-11th/
LOCATION:Southpoint Church\, 15639 24 Ave.\, Surrey\, British Columbia\, V4A 2J6\, Canada
ATTACH;FMTTYPE=image/png:https://www.southpoint.ca/wp-content/uploads/2025/12/cropped-FlavIcon.png
END:VEVENT
BEGIN:VEVENT
DTSTART;TZID=America/Halifax:20251228T100000
DTEND;TZID=America/Halifax:20251228T113000
DTSTAMP:20260420T230629
CREATED:20251129T010609Z
LAST-MODIFIED:20251129T010609Z
UID:1426-1766916000-1766921400@www.southpoint.ca
SUMMARY:Iceskating
DESCRIPTION:10:00-11:30 am | Centennial Arena\, 14600 North Bluff Rd\nFree skate rentals | Bring treats and board games for the rec room!
URL:https://www.southpoint.ca/event/iceskating/
LOCATION:Centennial Arena\, 14600 North Bluff Rd
ATTACH;FMTTYPE=image/jpeg:https://www.southpoint.ca/wp-content/uploads/2025/11/IMG_4376.jpg
END:VEVENT
BEGIN:VEVENT
DTSTART;TZID=America/Halifax:20251224T160000
DTEND;TZID=America/Halifax:20251224T170000
DTSTAMP:20260420T230629
CREATED:20251129T004652Z
LAST-MODIFIED:20251129T004652Z
UID:1422-1766592000-1766595600@www.southpoint.ca
SUMMARY:Christmas Eve Carol Sing in the Barn
DESCRIPTION:4 pm -5 pm at Kingfisher Farm\, 512 172nd St.\nParking is limited\, please carpool if possible. Dress warmly!
URL:https://www.southpoint.ca/event/christmas-eve-carol-sing-in-the-barn/
LOCATION:Kingfisher Farm\, 512 172nd St\, Surrey\, Canada
ATTACH;FMTTYPE=image/png:https://www.southpoint.ca/wp-content/uploads/2025/11/Advent_LAMP.png
END:VEVENT
BEGIN:VEVENT
DTSTART;TZID=America/Halifax:20251221T100000
DTEND;TZID=America/Halifax:20251221T120000
DTSTAMP:20260420T230629
CREATED:20251129T003550Z
LAST-MODIFIED:20251129T003550Z
UID:1420-1766311200-1766318400@www.southpoint.ca
SUMMARY:Advent\, Week 4
DESCRIPTION:“When you’re afraid\, give me your hand” \nMatthew 1:18-25\,\nIsaiah 41:5-10
URL:https://www.southpoint.ca/event/advent-week-4/
LOCATION:Southpoint Church\, 15639 24 Ave.\, Surrey\, British Columbia\, V4A 2J6\, Canada
ATTACH;FMTTYPE=image/png:https://www.southpoint.ca/wp-content/uploads/2025/11/Advent_LAMP.png
END:VEVENT
BEGIN:VEVENT
DTSTART;TZID=America/Halifax:20251214T100000
DTEND;TZID=America/Halifax:20251214T120000
DTSTAMP:20260420T230629
CREATED:20251129T003332Z
LAST-MODIFIED:20251129T003332Z
UID:1418-1765706400-1765713600@www.southpoint.ca
SUMMARY:Advent\, Week 3
DESCRIPTION:“Even in our fear\, we are called forward” \nLuke 1:26-39 \nJeremiah 1:4-10
URL:https://www.southpoint.ca/event/advent-week-3/
LOCATION:Southpoint Church\, 15639 24 Ave.\, Surrey\, British Columbia\, V4A 2J6\, Canada
ATTACH;FMTTYPE=image/png:https://www.southpoint.ca/wp-content/uploads/2025/11/Advent_LAMP.png
END:VEVENT
BEGIN:VEVENT
DTSTART;TZID=America/Halifax:20251207T100000
DTEND;TZID=America/Halifax:20251207T120000
DTSTAMP:20260420T230629
CREATED:20251128T234146Z
LAST-MODIFIED:20251128T234146Z
UID:1410-1765101600-1765108800@www.southpoint.ca
SUMMARY:Advent\, Week 2
DESCRIPTION:“When we’re running out of hope\, God is at work”  \nMatthew 11:1-11\, Is 43:19-21 \n  \n 
URL:https://www.southpoint.ca/event/advent-week-2/
LOCATION:Southpoint Church\, 15639 24 Ave.\, Surrey\, British Columbia\, V4A 2J6\, Canada
ATTACH;FMTTYPE=image/png:https://www.southpoint.ca/wp-content/uploads/2025/11/Advent_LAMP.png
END:VEVENT
BEGIN:VEVENT
DTSTART;TZID=America/Halifax:20251130T100000
DTEND;TZID=America/Halifax:20251130T120000
DTSTAMP:20260420T230629
CREATED:20251111T211643Z
LAST-MODIFIED:20251111T213738Z
UID:1310-1764496800-1764504000@www.southpoint.ca
SUMMARY:Advent Brunch
DESCRIPTION:We will begin advent by having church around the breakfast table in each other’s homes. Please sign up on this link\, specifying if you would like to be a guest or a host (or either)\, and how many will be attending in your family. The week of the breakfasts we will place you in groups and let you know where to go. Your groups will organize together the pot luck breakfasts in each home. Advent 1 activities will be provided to each group. Join us in this unique beginning of Advent!
URL:https://www.southpoint.ca/event/advent-brunch/
LOCATION:Each Other Homes\, Canada
ATTACH;FMTTYPE=image/jpeg:https://www.southpoint.ca/wp-content/uploads/2025/11/adventi-borito-750x410-1.jpg
END:VEVENT
BEGIN:VEVENT
DTSTART;TZID=America/Halifax:20251123T100000
DTEND;TZID=America/Halifax:20251123T120000
DTSTAMP:20260420T230629
CREATED:20251111T222114Z
LAST-MODIFIED:20251111T222114Z
UID:1337-1763892000-1763899200@www.southpoint.ca
SUMMARY:Christ the King Sunday
DESCRIPTION: ALL IN  – Luke 23:33-43
URL:https://www.southpoint.ca/event/christ-the-king-sunday/
LOCATION:BC
CATEGORIES:Sunday Worship
END:VEVENT
END:VCALENDAR