BEGIN:VCALENDAR
VERSION:2.0
PRODID:-//Southpoint Church - ECPv6.15.20//NONSGML v1.0//EN
CALSCALE:GREGORIAN
METHOD:PUBLISH
X-ORIGINAL-URL:https://www.southpoint.ca
X-WR-CALDESC:Events for Southpoint Church
REFRESH-INTERVAL;VALUE=DURATION:PT1H
X-Robots-Tag:noindex
X-PUBLISHED-TTL:PT1H
BEGIN:VTIMEZONE
TZID:America/Halifax
BEGIN:DAYLIGHT
TZOFFSETFROM:-0400
TZOFFSETTO:-0300
TZNAME:ADT
DTSTART:20250309T060000
END:DAYLIGHT
BEGIN:STANDARD
TZOFFSETFROM:-0300
TZOFFSETTO:-0400
TZNAME:AST
DTSTART:20251102T050000
END:STANDARD
BEGIN:DAYLIGHT
TZOFFSETFROM:-0400
TZOFFSETTO:-0300
TZNAME:ADT
DTSTART:20260308T060000
END:DAYLIGHT
BEGIN:STANDARD
TZOFFSETFROM:-0300
TZOFFSETTO:-0400
TZNAME:AST
DTSTART:20261101T050000
END:STANDARD
BEGIN:DAYLIGHT
TZOFFSETFROM:-0400
TZOFFSETTO:-0300
TZNAME:ADT
DTSTART:20270314T060000
END:DAYLIGHT
BEGIN:STANDARD
TZOFFSETFROM:-0300
TZOFFSETTO:-0400
TZNAME:AST
DTSTART:20271107T050000
END:STANDARD
END:VTIMEZONE
BEGIN:VEVENT
DTSTART;TZID=America/Halifax:20260426T100000
DTEND;TZID=America/Halifax:20260426T130000
DTSTAMP:20260420T130128
CREATED:20260408T052642Z
LAST-MODIFIED:20260408T052642Z
UID:1729-1777197600-1777208400@www.southpoint.ca
SUMMARY:Good Seed Sunday
DESCRIPTION:April 26\, 10AM at A Rocha (1620 192 St) \nIt’s a longstanding tradition for Southpoint to take to the fields on the fourth Sunday morning in April each year. Here\, we join A Rocha’s farmers to support their faithful tending to what emerges from soil. Most years we’ve helped them plant onions\, but this time we’ll be planting tomato seedlings! This is an All-OUT Sunday– so please plan to arrive in the A Rocha parking lot promptly for 10am on April 26\, and we’ll head into the fields from there. Never heard of A Rocha? Check out the landing page for their BC Centre location at the corner of 16th Ave and 192 Street here. 
URL:https://www.southpoint.ca/event/good-seed-sunday/
LOCATION:Arocha\, 1620 192 Street\, Surrey\, BC\, V3Z 9V2\, Canada
ATTACH;FMTTYPE=image/jpeg:https://www.southpoint.ca/wp-content/uploads/2026/04/jonathan-kemper-4z3lnwEvZQw-unsplash-scaled.jpg
END:VEVENT
END:VCALENDAR