BEGIN:VCALENDAR
VERSION:2.0
PRODID:-//Southpoint Church - ECPv6.15.20//NONSGML v1.0//EN
CALSCALE:GREGORIAN
METHOD:PUBLISH
X-WR-CALNAME:Southpoint Church
X-ORIGINAL-URL:https://www.southpoint.ca
X-WR-CALDESC:Events for Southpoint Church
REFRESH-INTERVAL;VALUE=DURATION:PT1H
X-Robots-Tag:noindex
X-PUBLISHED-TTL:PT1H
BEGIN:VTIMEZONE
TZID:America/Halifax
BEGIN:DAYLIGHT
TZOFFSETFROM:-0400
TZOFFSETTO:-0300
TZNAME:ADT
DTSTART:20250309T060000
END:DAYLIGHT
BEGIN:STANDARD
TZOFFSETFROM:-0300
TZOFFSETTO:-0400
TZNAME:AST
DTSTART:20251102T050000
END:STANDARD
BEGIN:DAYLIGHT
TZOFFSETFROM:-0400
TZOFFSETTO:-0300
TZNAME:ADT
DTSTART:20260308T060000
END:DAYLIGHT
BEGIN:STANDARD
TZOFFSETFROM:-0300
TZOFFSETTO:-0400
TZNAME:AST
DTSTART:20261101T050000
END:STANDARD
BEGIN:DAYLIGHT
TZOFFSETFROM:-0400
TZOFFSETTO:-0300
TZNAME:ADT
DTSTART:20270314T060000
END:DAYLIGHT
BEGIN:STANDARD
TZOFFSETFROM:-0300
TZOFFSETTO:-0400
TZNAME:AST
DTSTART:20271107T050000
END:STANDARD
END:VTIMEZONE
BEGIN:VEVENT
DTSTART;TZID=America/Halifax:20260311T190000
DTEND;TZID=America/Halifax:20260311T210000
DTSTAMP:20260420T051945
CREATED:20260224T182840Z
LAST-MODIFIED:20260224T182840Z
UID:1666-1773255600-1773262800@www.southpoint.ca
SUMMARY:AGM March 11th @ 7 pm Sunnyside
DESCRIPTION:At our AGM\, we approve our 2026 budget\, welcome new members\, and vote on new leaders. All are welcome. Members alone vote and are encouraged to attend to reach our quorum.
URL:https://www.southpoint.ca/event/agm-march-11th-7-pm-sunnyside/
LOCATION:Southpoint Church\, 15639 24 Ave.\, Surrey\, British Columbia\, V4A 2J6\, Canada
ATTACH;FMTTYPE=image/png:https://www.southpoint.ca/wp-content/uploads/2025/12/cropped-FlavIcon.png
END:VEVENT
BEGIN:VEVENT
DTSTART;TZID=America/Halifax:20260329T100000
DTEND;TZID=America/Halifax:20260329T120000
DTSTAMP:20260420T051945
CREATED:20260312T040136Z
LAST-MODIFIED:20260312T040327Z
UID:1691-1774778400-1774785600@www.southpoint.ca
SUMMARY:March 29  -  Palm Sunday\, 5th Sunday Brunches
DESCRIPTION:March 29th is the fifth Sunday\, when we enjoy brunches in each other’s homes. It is also Palm Sunday.  If you are interested in attending and/or hosting a brunch\, which will include a telling of the story of Palm Sunday\, please sign up on this link  \n 
URL:https://www.southpoint.ca/event/march-29-palm-sunday-5th-sunday-brunches/
LOCATION:Each Other Homes\, Canada
ATTACH;FMTTYPE=image/png:https://www.southpoint.ca/wp-content/uploads/2026/03/Screen-Shot-2026-03-11-at-9.00.05-PM.png
END:VEVENT
END:VCALENDAR